BEGIN:VCALENDAR
VERSION:2.0
PRODID:-//Shayona - ECPv4.2.4//NONSGML v1.0//EN
CALSCALE:GREGORIAN
METHOD:PUBLISH
X-WR-CALNAME:Shayona
X-ORIGINAL-URL:http://www.shayona.com.au
X-WR-CALDESC:Events for Shayona
BEGIN:VEVENT
DTSTART;VALUE=DATE:20150526
DTEND;VALUE=DATE:20200314
DTSTAMP:20180226T154319
CREATED:20150526
LAST-MODIFIED:20150526
UID:1034-1432598400-1584230399@www.shayona.com.au
SUMMARY:World Economic Forum
DESCRIPTION:Aliquam porta augue vel rutrum faucibus. In eleifend iaculis nulla id varius. Donec vestibulum nisi at erat viverra\, in sagittis purus vehicula. Donec malesuada ipsum sed augue mollis\, ut venenatis nulla consequat. Nam sed ligula sed sem efficitur ultricies. Ut in vestibulum eros. Donec at bibendum diam\, et cursus quam. Donec vel vehicula leo. In sed tempus nunc. Praesent pretium eros quis lacinia lacinia. Suspendisse at turpis vestibulum\, venenatis tortor nec\, dapibus tortor. Maecenas sodales est nisl. Vestibulum nec interdum ex\, id sodales nisl. Praesent ut suscipit libero\, in tincidunt nibh. Ut consectetur\, nisi ac semper mollis\, tellus purus scelerisque sem\, at pellentesque lorem nulla et arcu.
URL:http://www.shayona.com.au/event/world-economic-forum/
LOCATION:Aldgate\, London\, United Kingdom\, London\, 74200\, United Kingdom
END:VEVENT
END:VCALENDAR